BEGIN:VCALENDAR
VERSION:2.0
PRODID:-//hacksw/handcal//NONSGML v1.0//EN
CALSCALE:GREGORIAN
BEGIN:VEVENT
LOCATION:10475 Little Patuxent Parkway\, Columbia\, MD 21044
DESCRIPTION:
DTSTART:20260621T000000Z
DTEND:20260621T020000Z
SUMMARY:Zach Top
URL;VALUE=URI:https://www.axs.com/events/1405879/zach-top-tickets
DTSTAMP:20260420T011903Z
UID:69e57f07c2fe4
END:VEVENT
END:VCALENDAR
