BEGIN:VCALENDAR
VERSION:2.0
PRODID:-//hacksw/handcal//NONSGML v1.0//EN
CALSCALE:GREGORIAN
BEGIN:VEVENT
LOCATION:708 East Broad Street\, Richmond\, VA 23219
DESCRIPTION:
DTSTART:20260808T000000Z
DTEND:20260808T020000Z
SUMMARY:Watchhouse
URL;VALUE=URI:https://www.axs.com/events/1381058/watchhouse-tickets
DTSTAMP:20260420T041620Z
UID:69e5a8947b40f
END:VEVENT
END:VCALENDAR
