BEGIN:VCALENDAR
VERSION:2.0
PRODID:-//hacksw/handcal//NONSGML v1.0//EN
CALSCALE:GREGORIAN
BEGIN:VEVENT
LOCATION:317 Monticello Avenue\, Norfolk\, VA 23510
DESCRIPTION:
DTSTART:20261016T230000Z
DTEND:20261017T010000Z
SUMMARY:Bethel Music
URL;VALUE=URI:https://www.axs.com/events/1338116/bethel-music-tickets
DTSTAMP:20260420T041800Z
UID:69e5a8f896e3e
END:VEVENT
END:VCALENDAR
