BEGIN:VCALENDAR
VERSION:2.0
PRODID:-//hacksw/handcal//NONSGML v1.0//EN
CALSCALE:GREGORIAN
BEGIN:VEVENT
LOCATION:209 4th Avenue\, Asbury Park\, NJ 07712
DESCRIPTION:10% of ticket proceeds go to the Sam and Devorah Foundation for Transgender Youth\, which empowers trans and nonbinary youth and young adults to live their truth with mentorship programs\, youth retreats\, and community-building workshops.
DTSTART:20260424T220000Z
DTEND:20260425T000000Z
SUMMARY:Earlybirds Club
URL;VALUE=URI:https://www.axs.com/events/1333302/earlybirds-club-tickets
DTSTAMP:20260420T011455Z
UID:69e57e0fe9869
END:VEVENT
END:VCALENDAR
