BEGIN:VCALENDAR
VERSION:2.0
PRODID:-//hacksw/handcal//NONSGML v1.0//EN
CALSCALE:GREGORIAN
BEGIN:VEVENT
LOCATION:1200 Callowhill Street\, Philadelphia\, PA 19108
DESCRIPTION:
DTSTART:20260530T003000Z
DTEND:20260530T023000Z
SUMMARY:Master Boot Record
URL;VALUE=URI:https://www.axs.com/events/1317680/master-boot-record-tickets
DTSTAMP:20260420T041606Z
UID:69e5a8865fc4f
END:VEVENT
END:VCALENDAR
